BEGIN:VCALENDAR
VERSION:2.0
PRODID:-//Odalia Santé (ex AIST 83) - Médecine du travail - ECPv6.6.2//NONSGML v1.0//EN
CALSCALE:GREGORIAN
METHOD:PUBLISH
X-WR-CALNAME:Odalia Santé (ex AIST 83) - Médecine du travail
X-ORIGINAL-URL:https://odaliasante.fr
X-WR-CALDESC:Évènements pour Odalia Santé (ex AIST 83) - Médecine du travail
REFRESH-INTERVAL;VALUE=DURATION:PT1H
X-Robots-Tag:noindex
X-PUBLISHED-TTL:PT1H
BEGIN:VTIMEZONE
TZID:Europe/Paris
BEGIN:DAYLIGHT
TZOFFSETFROM:+0100
TZOFFSETTO:+0200
TZNAME:CEST
DTSTART:20230326T010000
END:DAYLIGHT
BEGIN:STANDARD
TZOFFSETFROM:+0200
TZOFFSETTO:+0100
TZNAME:CET
DTSTART:20231029T010000
END:STANDARD
END:VTIMEZONE
BEGIN:VEVENT
DTSTART;TZID=Europe/Paris:20231017T090000
DTEND;TZID=Europe/Paris:20231017T120000
DTSTAMP:20260420T053508
CREATED:20231010T075144Z
LAST-MODIFIED:20231013T072551Z
UID:10000011-1697533200-1697544000@odaliasante.fr
SUMMARY:Atelier de la Prévention : Comment agir contre le bruit ?
DESCRIPTION:27% des salariés sont considérés comme exposés à des bruits excessifs\nPlus de 700 surdités professionnelles sont reconnues chaque année\nLa surdité professionnelle est la 5ème cause de maladie professionnelle\n\nAu programme de l’atelier :\n\nSensibilisation sur les risques\nInformation sur la réglementation\nAide dans l’évaluation\nAccompagnement dans la prévention\n\n  \nATTENTION ! LES INSCRIPTIONS SONT LIMITÉES À 12 PARTICIPANTS !
URL:https://odaliasante.fr/evenement/atelier-de-la-prevention-comment-agir-contre-le-bruit/
LOCATION:ODALIA – Puget-sur-Argens\, Lot n°5 Lotissement des Vernèdes Chemin des Vernèdes\, PUGET SUR ARGENS\, 83480
CATEGORIES:Atelier de la prévention
ATTACH;FMTTYPE=image/jpeg:https://odaliasante.fr/wp-content/uploads/2023/10/ATELIER-BRUIT-17-OCT-2023.jpg
END:VEVENT
END:VCALENDAR