BEGIN:VCALENDAR
VERSION:2.0
PRODID:-//Odalia Santé (ex AIST 83) - Médecine du travail - ECPv6.6.2//NONSGML v1.0//EN
CALSCALE:GREGORIAN
METHOD:PUBLISH
X-WR-CALNAME:Odalia Santé (ex AIST 83) - Médecine du travail
X-ORIGINAL-URL:https://odaliasante.fr
X-WR-CALDESC:Évènements pour Odalia Santé (ex AIST 83) - Médecine du travail
REFRESH-INTERVAL;VALUE=DURATION:PT1H
X-Robots-Tag:noindex
X-PUBLISHED-TTL:PT1H
BEGIN:VTIMEZONE
TZID:Europe/Paris
BEGIN:DAYLIGHT
TZOFFSETFROM:+0100
TZOFFSETTO:+0200
TZNAME:CEST
DTSTART:20240331T010000
END:DAYLIGHT
BEGIN:STANDARD
TZOFFSETFROM:+0200
TZOFFSETTO:+0100
TZNAME:CET
DTSTART:20241027T010000
END:STANDARD
END:VTIMEZONE
BEGIN:VEVENT
DTSTART;TZID=Europe/Paris:20240125T100000
DTEND;TZID=Europe/Paris:20240125T120000
DTSTAMP:20260420T024345
CREATED:20231218T143704Z
LAST-MODIFIED:20231218T143904Z
UID:10000019-1706176800-1706184000@odaliasante.fr
SUMMARY:Les fondamentaux de la prévention des risques en 2h !
DESCRIPTION:Préserver la santé et la sécurité des salariés est une des obligations de l’employeur. Pourtant le temps qu’il peut consacrer à ce sujet important est souvent limitée\, notamment dans les TPE et microentreprises. \nCet atelier a pour objectif de faire comprendre les principes clefs de la prévention des risques professionnels. Il présente des outils et des acteurs qui permettront au chef d’entreprise d’être performant et de prendre les bonnes décisions. \nAu programme de cet atelier :  \n\nPourquoi prévenir les risques ? Les enjeux et les responsabilités de l’employeur.\nPrévenir les risques professionnels : un coût ? un investissement pour l’entreprise ?\nL’évaluation des risques\, la conformité des équipements\, la formation des salariés : 3 fondamentaux de la prévention.\nDémultiplier son énergie : les acteurs qui peuvent l’employeur\, les sources de subventions et les aides financières.\n\nL’intervenant : \n\nArnaud ROUX\, Ingénieur en Prévention des Risques Professionnels.\n\nInformations pratiques : \n\nCet atelier est inclus dans votre cotisation annuelle\nInscription gratuite mais obligatoire
URL:https://odaliasante.fr/evenement/les-fondamentaux-de-la-prevention-des-risques-en-2h/
LOCATION:ODALIA – Puget-sur-Argens\, Lot n°5 Lotissement des Vernèdes Chemin des Vernèdes\, PUGET SUR ARGENS\, 83480
CATEGORIES:Atelier de la prévention
ATTACH;FMTTYPE=image/jpeg:https://odaliasante.fr/wp-content/uploads/2023/12/Fondamentaux-Odalia-25.01-1.jpg
END:VEVENT
BEGIN:VEVENT
DTSTART;TZID=Europe/Paris:20240125T110000
DTEND;TZID=Europe/Paris:20240125T120000
DTSTAMP:20260420T024345
CREATED:20240123T091513Z
LAST-MODIFIED:20240123T091617Z
UID:10000023-1706180400-1706184000@odaliasante.fr
SUMMARY:Webinaire Présanse Paca-Corse : "Comment prévenir le sexisme et le harcèlement sexuel en entreprise ?"
DESCRIPTION:Les agissements sexistes peuvent concerner toutes les entreprises et tous les secteurs d’activités. \nAvec ce webinaire\, nous vous proposons de faire le point sur le cadre réglementaire avant de détailler les conséquences sur la santé et le travail que peuvent avoir des situations avec comportements sexistes. \nDes experts en prévention vous énuméreront également plusieurs actions possibles au sein de l’entreprise et vous présenteront l’accompagnement proposé par les services de prévention et de santé au travail. \nLes intervenants :\n\nCharlène CANET\, Infirmière en santé au travail à l’AISMT 13\nElise RABILLARD\, Psychologue du travail au GIMS 13\nJulie LERCARI\, Intervenante en prévention des risques professionnels à ST Provence\nDorothée TESTE\, Psychologue du travail à ST Provence\n\nInformations pratiques :\n\nLe jeudi 25 janvier à 11h00.\nWebinaire d’une durée de 45 mn\, incluant quinze minutes de questions-réponses.\nCet webinaire est inclus dans votre cotisation annuelle\nInscription gratuite mais obligatoire\n\nINSCRIPTIONS EN LIGNE EN CLIQUANT ICI
URL:https://odaliasante.fr/evenement/webinaire-presanse-paca-corse-comment-prevenir-le-sexisme-et-le-harcelement-sexuel-en-entreprise/
CATEGORIES:Webinaires de la prévention
ATTACH;FMTTYPE=image/jpeg:https://odaliasante.fr/wp-content/uploads/2024/01/WEBINAIRE-HARCELEMENT-SEXISME-ENTREPRISE-PRESANSEPACACORSE-Copie.jpg
END:VEVENT
END:VCALENDAR