BEGIN:VCALENDAR
VERSION:2.0
PRODID:-//Odalia Santé (ex AIST 83) - Médecine du travail - ECPv6.6.2//NONSGML v1.0//EN
CALSCALE:GREGORIAN
METHOD:PUBLISH
X-WR-CALNAME:Odalia Santé (ex AIST 83) - Médecine du travail
X-ORIGINAL-URL:https://odaliasante.fr
X-WR-CALDESC:Évènements pour Odalia Santé (ex AIST 83) - Médecine du travail
REFRESH-INTERVAL;VALUE=DURATION:PT1H
X-Robots-Tag:noindex
X-PUBLISHED-TTL:PT1H
BEGIN:VTIMEZONE
TZID:Europe/Paris
BEGIN:DAYLIGHT
TZOFFSETFROM:+0100
TZOFFSETTO:+0200
TZNAME:CEST
DTSTART:20240331T010000
END:DAYLIGHT
BEGIN:STANDARD
TZOFFSETFROM:+0200
TZOFFSETTO:+0100
TZNAME:CET
DTSTART:20241027T010000
END:STANDARD
END:VTIMEZONE
BEGIN:VEVENT
DTSTART;TZID=Europe/Paris:20240305T090000
DTEND;TZID=Europe/Paris:20240305T100000
DTSTAMP:20260419T204833
CREATED:20240201T103330Z
LAST-MODIFIED:20240304T073728Z
UID:10000028-1709629200-1709632800@odaliasante.fr
SUMMARY:Webinaire : "Le travail sur écran évolue\, sachez évoluer avec lui !"
DESCRIPTION:Le code a changé. Ces dernières années\, les pratiques\, les outils numériques et les modes d’organisation du travail tertiaire sur écran ont considérablement évolué. Ces changements ont eu des impacts dans les entreprises. De fixe à mobile\, flexible\, adaptable\, ces termes que vous connaissez s’appliquent parfois autant aux espaces et équipements qu’aux individus. \nVous ou vos salariés travaillez sur écran ? Avec les ergonomes d’Odalia\, venez découvrir comment il est possible de s’approprier ces évolutions et surtout comment faire de son poste de travail un allié pour sa santé et son efficacité. \nAu programme :\n\nL’ergonomie : Une approche globale de la situation de travail\nTravailler dans des environnements en constante évolution (open space\, télétravail…)\nLe travail sur écran : « bonnes pratiques »\nQuels équipements ? Essais\, réglages et bricolage\nUne situation de travail complexe\, un environnement ou un équipement à concevoir : comment agir ?\n\nLes intervenants :\n\nNicolas CHAMOUX\, Ergonome\nHélène MARDIKIAN\, Ergonome\nJulie REAL\, Ergonome\n\nInformations pratiques :\n\nLe 05 mars 2024\, de 09h à 10h\nWebinaire prévu pour une durée d’une heure\, incluant 15 mn à la fin pour vos questions (sera conditionné par le nombre de participants)\nCe webinaire est inclus dans votre cotisation annuelle\nInscription gratuite mais obligatoire\nCe webinaire sera animé via la plateforme Go To Meeting. Attention : le lien de connexion sera envoyé 3 jours avant par mail ! Pensez à vérifier vos spams !
URL:https://odaliasante.fr/evenement/webinaire-le-travail-sur-ecran-evolue-sachez-evoluer-avec-lui/
CATEGORIES:Webinaires de la prévention
ATTACH;FMTTYPE=image/jpeg:https://odaliasante.fr/wp-content/uploads/2024/01/WEBINAIRE-TRAVAIL-SUR-ECRAN-NOMOT-ODALIA.jpg
END:VEVENT
BEGIN:VEVENT
DTSTART;TZID=Europe/Paris:20240312T090000
DTEND;TZID=Europe/Paris:20240312T120000
DTSTAMP:20260419T204833
CREATED:20240201T131400Z
LAST-MODIFIED:20240215T092804Z
UID:10000029-1710234000-1710244800@odaliasante.fr
SUMMARY:Travailler avec les produits chimiques\, les bonnes pratiques !
DESCRIPTION:2ème cause de maladies professionnelles en France\, le risque chimique se trouve dans tous les secteurs d’activités. Les produits chimiques sont omniprésents sur les lieux de travail mais sont encore méconnus. Toxiques\, corrosifs\, abrasifs et/ou cancérogènes\, ils peuvent irriter la peau\, les voies respiratoires\, le système nerveux\, provoquer des maladies\, des cancers… \nNotre Ingénieure en Prévention des Risques Chimiques vous présentera tous les outils pour prévenir ce risque au sein de votre entreprise. \nAu programme de cet atelier :  \n\nRisque chimique : quels enjeux ? ;\nComment identifier le risque chimique dans votre entreprise ? ;\nComment agir contre le risque chimique ? ;\nComment prévenir les risques chimiques ?\n\nL’intervenante : \n\nElodie PELLICCIA\, Ingénieure en Prévention des Risques Chimiques\n\nInformations pratiques : \n\nCet atelier est inclus dans votre cotisation annuelle\nInscription gratuite mais obligatoire
URL:https://odaliasante.fr/evenement/travailler-avec-les-produits-chimiques-les-bonnes-pratiques/
LOCATION:Odalia – ZI Toulon Est\, 398 Av. Joseph Louis Lambot\, La Garde\, LA\, 83130
CATEGORIES:Atelier de la prévention
ATTACH;FMTTYPE=image/jpeg:https://odaliasante.fr/wp-content/uploads/2024/02/RC-Odalia-12.03.24.jpg
END:VEVENT
BEGIN:VEVENT
DTSTART;TZID=Europe/Paris:20240314T090000
DTEND;TZID=Europe/Paris:20240314T120000
DTSTAMP:20260419T204833
CREATED:20240222T073907Z
LAST-MODIFIED:20240222T073907Z
UID:10000033-1710406800-1710417600@odaliasante.fr
SUMMARY:La prévention et l'évaluation du bruit en entreprise
DESCRIPTION:Dans le cadre de la 27ème édition de la Journée Nationale de l’Audition\, consacrée à l’information et au repérage des acouphènes et troubles de l’audition au sein de la population\, deux techniciens en mesures physiques vous donneront tous les conseils pour vous sensibiliser sur les risques liés au bruit et vous accompagner dans l’évaluation et la prévention. \n27% des salariés sont considérés comme exposés à des bruits excessifs ; plus de 700 surdités professionnelles sont reconnues chaque année ; la surdité professionnelle est la 5ème cause de maladie professionnelle ! \nAu programme de cet atelier :  \n\nSensibilisation sur les risques ;\nInformation sur la réglementation ;\nAide dans l’évaluation ;\nAccompagnement dans la prévention.\n\nLes intervenants : \n\nVéronique LIONS\, Technicienne en mesures physiques ;\nMaxime COLLIN\, Technicien en mesures physiques.\n\nInformations pratiques : \n\nCet atelier est inclus dans votre cotisation annuelle\nInscription gratuite mais obligatoire
URL:https://odaliasante.fr/evenement/la-prevention-et-levaluation-du-bruit-en-entreprise/
LOCATION:ODALIA – La Garde Toulon-Est\, 398 Av. Joseph Louis Lambot\, La Garde\, 83130\, France
CATEGORIES:Atelier de la prévention
ATTACH;FMTTYPE=image/jpeg:https://odaliasante.fr/wp-content/uploads/2024/02/Bruit-Odalia-14.03.24.jpg
END:VEVENT
BEGIN:VEVENT
DTSTART;TZID=Europe/Paris:20240319T090000
DTEND;TZID=Europe/Paris:20240319T100000
DTSTAMP:20260419T204833
CREATED:20240219T153309Z
LAST-MODIFIED:20240220T074845Z
UID:10000030-1710838800-1710842400@odaliasante.fr
SUMMARY:Rendez-vous Santé et Sécurité au Travail : "Prévenir les risques liés à la sédentarité au travail !"
DESCRIPTION:Webconférence : Prévenir les risques liés à la sédentarité au travail !\nVous vous interrogez sur la prévention des risques liés à la sédentarité au travail ? Inscrivez vous à notre webconférence organisée par l’Union Patronale du Var et animée par Odalia (ex AIST 83)\, la DDETS 83 et la Carsat Sud Est. \nLe travail est devenu au fil de temps le vecteur principal des postures sédentaires. \nEn effet\, les évolutions technologiques avec le développement des outils numériques\, l’accroissement des activités du tertiaire et plus récemment le déploiement du télétravail ont modifié les conditions et les activités de travail faisant de la position assise une posture courante et incontournable de nombreuses situations professionnelles. \nCelle-ci couplée à un maintien prolongé dans le temps et à une faible dépense énergétique devient un véritable facteur de risque professionnel avec des conséquences graves pour la santé du salarié et de l’entreprise. \nAu programme :\n\nLe contexte et les exigences réglementaires;\nLa définition de la sédentarité au travail et ses conséquences;\nLe repérage et l’évaluation de la sédentarité;\nL’identification des mesures de prévention.\n\nInformations pratiques :\n\nAvec la participation du Dr Marie-Laurence Ohresser\, Médecin du Travail chez Odalia\nLe 19 mars 2024\, de 09h00 à 10h00\nCe webinaire est inclus dans votre cotisation annuelle\nInscription gratuite mais obligatoire\n\nINSCRIPTIONS EN LIGNE EN CLIQUANT ICI
URL:https://odaliasante.fr/evenement/prevenir-les-risques-lies-a-la-sedentarite-au-travail/
CATEGORIES:Les rendez-vous de la Santé et de la Sécurité au Travail
ATTACH;FMTTYPE=image/jpeg:https://odaliasante.fr/wp-content/uploads/2024/02/WEBCONFERENCE-RDV-SST-ODALIA.jpg
END:VEVENT
BEGIN:VEVENT
DTSTART;TZID=Europe/Paris:20240319T140000
DTEND;TZID=Europe/Paris:20240319T150000
DTSTAMP:20260419T204833
CREATED:20240131T075328Z
LAST-MODIFIED:20240131T075328Z
UID:10000024-1710856800-1710860400@odaliasante.fr
SUMMARY:Webinaire Présanse Paca-Corse : "Activité physique adaptée : un levier du bien-être au travail"
DESCRIPTION:Le manque d’activité physique et la sédentarité\, en particulier au travail\, exposent aujourd’hui 95% des adultes Français à un risque majeur de détérioration de leur santé (avis ANSES 2022). \nPourtant\, les avantages d’une activité physique et sportive sont réels notamment pour les entreprises\, tant au niveau des employeurs que des employés : amélioration de la qualité de vie au travail\, de la santé et du bien-être des salariés\, augmentation de la productivité de l’entreprise\, diminution de l’absentéisme… \nAvec notre webinaire\, nos expertes en prévention vous expliqueront ce que l’on entend par activité physique adaptée\, avant de vous exposer les différents bienfaits. Il sera également question de mieux comprendre en quoi une activité physique et sportive peut contribuer à prévenir les risques professionnels et à participer au maintien en emploi.\nEt nul besoin d’être un grand sportif. Il existe plein de solutions simples pour augmenter son activité physique au quotidien. On vous donnera quelques pistes. \nLes intervenantes :\n\nFrançoise ANGEL\, Intervenante en prévention des risques professionnels à l’AIST 84\nNathalie PELURSON\, Médecin du travail au GEST 05\nDominique BONNET\, Médecin du travail à ST Provence\n\nInformations pratiques :\n\nLe 19 mars 2024\, de 14h à 15h\nWebinaire prévu pour une durée d’une heure\, incluant 15 mn à la fin pour vos questions\nCe webinaire est inclus dans votre cotisation annuelle\nInscription gratuite mais obligatoire\n\nINSCRIPTIONS EN LIGNE EN CLIQUANT ICI
URL:https://odaliasante.fr/evenement/activite-physique-adaptee-un-levier-du-bien-etre-au-travail/
CATEGORIES:Webinaires de la prévention
ATTACH;FMTTYPE=image/jpeg:https://odaliasante.fr/wp-content/uploads/2024/01/WEBINAIRE-ACTIVITE-PHYSIQUE-ADAPTEE-PRESANSEPACACORSE.jpg
END:VEVENT
BEGIN:VEVENT
DTSTART;TZID=Europe/Paris:20240321T090000
DTEND;TZID=Europe/Paris:20240321T123000
DTSTAMP:20260419T204833
CREATED:20240131T081449Z
LAST-MODIFIED:20240304T075400Z
UID:10000026-1711011600-1711024200@odaliasante.fr
SUMMARY:Le Document Unique d'Evaluation des Risques Professionnels
DESCRIPTION:En tant qu’employeur\, la loi vous impose d’évaluer les risques qui existent dans votre entreprise en matière de santé et de sécurité des salariés. Pour cela\, vous devez établir et tenir à jour un Document Unique d’Évaluation des Risques Professionnels (DUERP) qui est un outil central et essentiel dans la prévention des risques professionnels. \nVous souhaitez mettre à jour ou créer votre Document Unique ? Nous vous accompagnons dans sa mise en place !  \nAu programme de cet atelier :  \n\nLes enjeux de la prévention et les objectifs du DUERP ;\nLa méthode pour formaliser le DUERP et son plan d’action ;\n[NOUVEAUTE] Les changements apportés par la loi du 02 août 2021 sur le DUERP.\n\nL’intervenant : \n\nArnaud ROUX\, Ingénieur en Prévention des Risques Professionnels.\n\nInformations pratiques : \n\nCet atelier est inclus dans votre cotisation annuelle\nInscription gratuite mais obligatoire
URL:https://odaliasante.fr/evenement/le-document-unique-devaluation-des-risques-professionnels-4/
LOCATION:Odalia – ZI Toulon Est\, 398 Av. Joseph Louis Lambot\, La Garde\, LA\, 83130
CATEGORIES:Atelier de la prévention
ATTACH;FMTTYPE=image/jpeg:https://odaliasante.fr/wp-content/uploads/2024/01/DUERP-Odalia-21.03.24.jpg
END:VEVENT
BEGIN:VEVENT
DTSTART;TZID=Europe/Paris:20240321T140000
DTEND;TZID=Europe/Paris:20240321T150000
DTSTAMP:20260419T204833
CREATED:20240131T080528Z
LAST-MODIFIED:20240131T080528Z
UID:10000025-1711029600-1711033200@odaliasante.fr
SUMMARY:Webinaire-jeu Présanse Paca-Corse : "Sédentarité au travail : jouez pour bouger !"
DESCRIPTION:La France a fait de la promotion de l’activité physique et sportive la “Grande cause nationale” pour 2024\, année des Jeux olympiques et paralympiques. Car il y a urgence à adopter des modes de vie moins sédentaires et plus actifs\, quand on sait qu’en moyenne\, un adulte est assis 12 heures dans une journée travaillée… \nDans le cadre des Rencontres Santé-Travail du réseau Présanse\, les services de prévention et de santé au travail de Paca-Corse vous proposent donc de faire le point sur la sédentarité au travail avec un webinaire-jeu. Sous forme de quiz\, on va tester vos connaissances et casser les idées reçues pour vous aider à mieux bouger et à rester en bonne santé ! Une coach sportif vous présentera quelques exercices faciles à réaliser au bureau. \nLes intervenantes :\n\nAgnès DONAT\, Technicienne en prévention chez Expertis\nLaura PICHE\, Chargée de communication chez Expertis et Coach sportif\nElodie LEMONNIER\, Intervenante en Prévention de Risques Professionnels – Ingénieur Hygiène Sécurité chez ST Provence\nCécile CIONI\, Chargée de communication chez Présanse Paca-Corse\n\nInformations pratiques :\n\nLe 21 mars 2024\, de 14h à 15h\nWebinaire prévu pour une durée d’une heure\, incluant 15 mn à la fin pour vos questions\nCe webinaire est inclus dans votre cotisation annuelle\nInscription gratuite mais obligatoire\n\nINSCRIPTIONS EN LIGNE EN CLIQUANT ICI
URL:https://odaliasante.fr/evenement/sedentarite-au-travail-jouez-pour-bouger/
CATEGORIES:Webinaires de la prévention
ATTACH;FMTTYPE=image/jpeg:https://odaliasante.fr/wp-content/uploads/2024/01/WEBINAIRE-SEDENTARITE-TRAVAIL-PRESANSEPACACORSE.jpg
END:VEVENT
BEGIN:VEVENT
DTSTART;TZID=Europe/Paris:20240326T110000
DTEND;TZID=Europe/Paris:20240326T120000
DTSTAMP:20260419T204833
CREATED:20240131T095544Z
LAST-MODIFIED:20240131T095557Z
UID:10000027-1711450800-1711454400@odaliasante.fr
SUMMARY:Webinaire Présanse Paca-Corse : "Perturbateurs endocriniens au travail : ça bouge dans la réglementation !"
DESCRIPTION:Les perturbateurs endocriniens (PE) altèrent le fonctionnement du système hormonal\, ce qui peut entraîner des répercussions sur la santé des employés ou sur celle de leur descendance. Ces substances se trouvent dans notre environnement\, y compris dans le monde du travail. \nAu cours de ce webinaire\, plusieurs experts en prévention vous aideront à appréhender les évolutions réglementaires\, ainsi que les secteurs les plus exposés\, tels que la cosmétique\, la plasturgie\, la coiffure\, la stomatologie et bien d’autres. \nNous aborderons également le suivi médical de vos employés et les mesures de prévention proposées par votre service de prévention et de santé au travail pour réduire l’impact des perturbateurs endocriniens. Enfin\, pour une vision plus concrète du problème\, des exemples de cas d’entreprises seront expliqués. \nLes intervenants :\n\nNathalie Ramousse\, IPRP à l’AISMT 13\nValérie Spinelli\, Médecin du travail à l’AISMT 13\nPatricia Mouysset\, Responsable filière technique à l’AIST 84\nGille Maccanti\, Toxicologue à l’AIST 84\nCosmin Patrascu\, Ingénieur/Chimiste à l’AMETRA06\nJulien Cochard\, IPRP à l’AMETRA06\nVirginie Pradès\, Technicienne en prévention chez Expertis\n\nInformations pratiques :\n\nLe 26 mars 2024\, de 11h à 12h\nWebinaire prévu pour une durée d’une heure\, incluant 15 mn à la fin pour vos questions\nCe webinaire est inclus dans votre cotisation annuelle\nInscription gratuite mais obligatoire\n\nINSCRIPTIONS EN LIGNE EN CLIQUANT ICI
URL:https://odaliasante.fr/evenement/perturbateurs-endocriniens-au-travail-ca-bouge-dans-la-reglementation/
CATEGORIES:Webinaires de la prévention
ATTACH;FMTTYPE=image/jpeg:https://odaliasante.fr/wp-content/uploads/2024/01/WEBINAIRE-PERTUBATEURS-ENDOCRINIENS-TRAVAIL-PRESANSEPACACORSE.jpg
END:VEVENT
END:VCALENDAR