BEGIN:VCALENDAR
VERSION:2.0
PRODID:-//Odalia Santé (ex AIST 83) - Médecine du travail - ECPv6.6.2//NONSGML v1.0//EN
CALSCALE:GREGORIAN
METHOD:PUBLISH
X-WR-CALNAME:Odalia Santé (ex AIST 83) - Médecine du travail
X-ORIGINAL-URL:https://odaliasante.fr
X-WR-CALDESC:Évènements pour Odalia Santé (ex AIST 83) - Médecine du travail
REFRESH-INTERVAL;VALUE=DURATION:PT1H
X-Robots-Tag:noindex
X-PUBLISHED-TTL:PT1H
BEGIN:VTIMEZONE
TZID:Europe/Paris
BEGIN:DAYLIGHT
TZOFFSETFROM:+0100
TZOFFSETTO:+0200
TZNAME:CEST
DTSTART:20240331T010000
END:DAYLIGHT
BEGIN:STANDARD
TZOFFSETFROM:+0200
TZOFFSETTO:+0100
TZNAME:CET
DTSTART:20241027T010000
END:STANDARD
END:VTIMEZONE
BEGIN:VEVENT
DTSTART;TZID=Europe/Paris:20240404T090000
DTEND;TZID=Europe/Paris:20240404T120000
DTSTAMP:20260419T192318
CREATED:20240311T142639Z
LAST-MODIFIED:20240404T115758Z
UID:10000038-1712221200-1712232000@odaliasante.fr
SUMMARY:Ergonomie et réalité virtuelle\, vos alliés pour concevoir et évoluer
DESCRIPTION:Ergonomie et réalité virtuelle\nVous souhaitez aller plus loin dans la conception/rénovation de vos locaux et de vos pratiques. Vous allez déménager et vous avez un doute : le mobilier et les équipements seront-ils adaptés aux nouveaux espaces pour vos salariés ? Ou encore\, vous voulez vous projeter sur l’usage d’une machine pour améliorer votre process et les conditions de travail ? \nNous vous présentons la démarche ergonomique dans les situations de conception depuis plusieurs années. Pour vous accompagner encore plus efficacement\, nous avons acquis de nouveaux outils de simulation ! Cet atelier va vous permettre d’expérimenter la réalité virtuelle et de programmer une réflexion en amont sur vos environnements de travail et la santé de vos salariés. \nAu programme de cet atelier : \n\nL’ergonomie de conception : quels avantages ? quand l’intégrer ?\nCas concrets : conception de lieux ou de pratiques de travail.\nDe la 2D à la 3D : les apports de la réalité virtuelle.\nAtelier pratique : simulation grâce à la réalité virtuelle.\n\nLes intervenants :\n\nNicolas CHAMOUX\, Ergonome\nHélène MARDIKIAN\, Ergonome\nJulie REAL\, Ergonome\n\nInformations pratiques :\n\nCet atelier est inclus dans votre cotisation annuelle\nInscription gratuite mais obligatoire
URL:https://odaliasante.fr/evenement/ergonomie-et-realite-virtuelle-vos-allies-pour-concevoir-et-evoluer/
LOCATION:Odalia – Ollioules\, Impasse des Peupliers - Quartier Quiez - Parc Athéna\, Ollioules\, 83192\, France
CATEGORIES:Atelier de la prévention
ATTACH;FMTTYPE=image/jpeg:https://odaliasante.fr/wp-content/uploads/2024/03/ERGO-VR-Odalia-04.04.24.jpg
END:VEVENT
BEGIN:VEVENT
DTSTART;TZID=Europe/Paris:20240409T090000
DTEND;TZID=Europe/Paris:20240409T123000
DTSTAMP:20260419T192318
CREATED:20240221T080344Z
LAST-MODIFIED:20240221T080741Z
UID:10000032-1712653200-1712665800@odaliasante.fr
SUMMARY:Le Document Unique d'Evaluation des Risques Professionnels
DESCRIPTION:En tant qu’employeur\, la loi vous impose d’évaluer les risques qui existent dans votre entreprise en matière de santé et de sécurité des salariés. Pour cela\, vous devez établir et tenir à jour un Document Unique d’Évaluation des Risques Professionnels (DUERP) qui est un outil central et essentiel dans la prévention des risques professionnels. \nVous souhaitez mettre à jour ou créer votre Document Unique ? Nous vous accompagnons dans sa mise en place !  \nAu programme de cet atelier :  \n\nLes enjeux de la prévention et les objectifs du DUERP ;\nLa méthode pour formaliser le DUERP et son plan d’action ;\n[NOUVEAUTE] Les changements apportés par la loi du 02 août 2021 sur le DUERP.\n\nL’intervenant : \n\nArnaud ROUX\, Ingénieur en Prévention des Risques Professionnels.\n\nInformations pratiques : \n\nCet atelier est inclus dans votre cotisation annuelle\nInscription gratuite mais obligatoire
URL:https://odaliasante.fr/evenement/le-document-unique-devaluation-des-risques-professionnels-5/
LOCATION:ODALIA – Puget-sur-Argens\, Lot n°5 Lotissement des Vernèdes Chemin des Vernèdes\, PUGET SUR ARGENS\, 83480
CATEGORIES:Atelier de la prévention
ATTACH;FMTTYPE=image/jpeg:https://odaliasante.fr/wp-content/uploads/2024/02/DUERP-Odalia-09.04.24.jpg
END:VEVENT
BEGIN:VEVENT
DTSTART;TZID=Europe/Paris:20240411T090000
DTEND;TZID=Europe/Paris:20240411T120000
DTSTAMP:20260419T192318
CREATED:20240222T134955Z
LAST-MODIFIED:20240425T132527Z
UID:10000034-1712826000-1712836800@odaliasante.fr
SUMMARY:QVCT : Allier prévention\, conformité légale et bien-être des dirigeants
DESCRIPTION:Comme beaucoup d’entreprises\, vous avez du mal à aborder les risques psychosociaux (RPS) ? Vous vous posez la question sur l’intérêt d’une démarche de qualité de vie et des conditions de travail (QVCT) ? Vous souhaitez intégrer cette thématique au Document Unique ? \nDécouvrez comment prévenir et intégrer ces risques au sein de votre entreprise ! \nAu programme de cet atelier :  \n\nComprendre la QVCT et les RPS : identifier les signes précurseurs\, les enjeux et les stratégies de prévention\nIntégrer les RPS au Document Unique : apprenez comment intégrer efficacement les RPS dans votre document unique pour une gestion proactive des risques\nPréserver la santé et le bien-être des dirigeants : en tant que chef d’entreprise\, employeur\, manager\, vous êtes confrontés à des RPS spécifiques\, l’atelier en fera une introduction pour mieux les appréhender.\n\nLes intervenants : \n\nAlexandra BUFFIN\, Psychologue du Travail.\nThéo MAUDUIT\, Psychologue du Travail.\n\nInformations pratiques : \n\nCet atelier est inclus dans votre cotisation annuelle\nInscription gratuite mais obligatoire
URL:https://odaliasante.fr/evenement/qvct-allier-prevention-conformite-legale-et-bien-etre-des-dirigeants/
LOCATION:ODALIA – Puget-sur-Argens\, Lot n°5 Lotissement des Vernèdes Chemin des Vernèdes\, PUGET SUR ARGENS\, 83480
CATEGORIES:Atelier de la prévention
ATTACH;FMTTYPE=image/jpeg:https://odaliasante.fr/wp-content/uploads/2024/02/ATELIER-RPS-ODALIA-11.04.24.jpg
END:VEVENT
END:VCALENDAR