BEGIN:VCALENDAR
VERSION:2.0
PRODID:-//Odalia Santé (ex AIST 83) - Médecine du travail - ECPv6.6.2//NONSGML v1.0//EN
CALSCALE:GREGORIAN
METHOD:PUBLISH
X-WR-CALNAME:Odalia Santé (ex AIST 83) - Médecine du travail
X-ORIGINAL-URL:https://odaliasante.fr
X-WR-CALDESC:Évènements pour Odalia Santé (ex AIST 83) - Médecine du travail
REFRESH-INTERVAL;VALUE=DURATION:PT1H
X-Robots-Tag:noindex
X-PUBLISHED-TTL:PT1H
BEGIN:VTIMEZONE
TZID:Europe/Paris
BEGIN:DAYLIGHT
TZOFFSETFROM:+0100
TZOFFSETTO:+0200
TZNAME:CEST
DTSTART:20230326T010000
END:DAYLIGHT
BEGIN:STANDARD
TZOFFSETFROM:+0200
TZOFFSETTO:+0100
TZNAME:CET
DTSTART:20231029T010000
END:STANDARD
BEGIN:DAYLIGHT
TZOFFSETFROM:+0100
TZOFFSETTO:+0200
TZNAME:CEST
DTSTART:20240331T010000
END:DAYLIGHT
BEGIN:STANDARD
TZOFFSETFROM:+0200
TZOFFSETTO:+0100
TZNAME:CET
DTSTART:20241027T010000
END:STANDARD
END:VTIMEZONE
BEGIN:VEVENT
DTSTART;TZID=Europe/Paris:20240125T110000
DTEND;TZID=Europe/Paris:20240125T120000
DTSTAMP:20260420T070323
CREATED:20240123T091513Z
LAST-MODIFIED:20240123T091617Z
UID:10000023-1706180400-1706184000@odaliasante.fr
SUMMARY:Webinaire Présanse Paca-Corse : "Comment prévenir le sexisme et le harcèlement sexuel en entreprise ?"
DESCRIPTION:Les agissements sexistes peuvent concerner toutes les entreprises et tous les secteurs d’activités. \nAvec ce webinaire\, nous vous proposons de faire le point sur le cadre réglementaire avant de détailler les conséquences sur la santé et le travail que peuvent avoir des situations avec comportements sexistes. \nDes experts en prévention vous énuméreront également plusieurs actions possibles au sein de l’entreprise et vous présenteront l’accompagnement proposé par les services de prévention et de santé au travail. \nLes intervenants :\n\nCharlène CANET\, Infirmière en santé au travail à l’AISMT 13\nElise RABILLARD\, Psychologue du travail au GIMS 13\nJulie LERCARI\, Intervenante en prévention des risques professionnels à ST Provence\nDorothée TESTE\, Psychologue du travail à ST Provence\n\nInformations pratiques :\n\nLe jeudi 25 janvier à 11h00.\nWebinaire d’une durée de 45 mn\, incluant quinze minutes de questions-réponses.\nCet webinaire est inclus dans votre cotisation annuelle\nInscription gratuite mais obligatoire\n\nINSCRIPTIONS EN LIGNE EN CLIQUANT ICI
URL:https://odaliasante.fr/evenement/webinaire-presanse-paca-corse-comment-prevenir-le-sexisme-et-le-harcelement-sexuel-en-entreprise/
CATEGORIES:Webinaires de la prévention
ATTACH;FMTTYPE=image/jpeg:https://odaliasante.fr/wp-content/uploads/2024/01/WEBINAIRE-HARCELEMENT-SEXISME-ENTREPRISE-PRESANSEPACACORSE-Copie.jpg
END:VEVENT
BEGIN:VEVENT
DTSTART;TZID=Europe/Paris:20240125T100000
DTEND;TZID=Europe/Paris:20240125T120000
DTSTAMP:20260420T070323
CREATED:20231218T143704Z
LAST-MODIFIED:20231218T143904Z
UID:10000019-1706176800-1706184000@odaliasante.fr
SUMMARY:Les fondamentaux de la prévention des risques en 2h !
DESCRIPTION:Préserver la santé et la sécurité des salariés est une des obligations de l’employeur. Pourtant le temps qu’il peut consacrer à ce sujet important est souvent limitée\, notamment dans les TPE et microentreprises. \nCet atelier a pour objectif de faire comprendre les principes clefs de la prévention des risques professionnels. Il présente des outils et des acteurs qui permettront au chef d’entreprise d’être performant et de prendre les bonnes décisions. \nAu programme de cet atelier :  \n\nPourquoi prévenir les risques ? Les enjeux et les responsabilités de l’employeur.\nPrévenir les risques professionnels : un coût ? un investissement pour l’entreprise ?\nL’évaluation des risques\, la conformité des équipements\, la formation des salariés : 3 fondamentaux de la prévention.\nDémultiplier son énergie : les acteurs qui peuvent l’employeur\, les sources de subventions et les aides financières.\n\nL’intervenant : \n\nArnaud ROUX\, Ingénieur en Prévention des Risques Professionnels.\n\nInformations pratiques : \n\nCet atelier est inclus dans votre cotisation annuelle\nInscription gratuite mais obligatoire
URL:https://odaliasante.fr/evenement/les-fondamentaux-de-la-prevention-des-risques-en-2h/
LOCATION:ODALIA – Puget-sur-Argens\, Lot n°5 Lotissement des Vernèdes Chemin des Vernèdes\, PUGET SUR ARGENS\, 83480
CATEGORIES:Atelier de la prévention
ATTACH;FMTTYPE=image/jpeg:https://odaliasante.fr/wp-content/uploads/2023/12/Fondamentaux-Odalia-25.01-1.jpg
END:VEVENT
BEGIN:VEVENT
DTSTART;TZID=Europe/Paris:20240109T090000
DTEND;TZID=Europe/Paris:20240109T123000
DTSTAMP:20260420T070323
CREATED:20231215T103143Z
LAST-MODIFIED:20231219T073752Z
UID:10000018-1704790800-1704803400@odaliasante.fr
SUMMARY:Le Document Unique d'Evaluation des Risques Professionnels
DESCRIPTION:En tant qu’employeur\, la loi vous impose d’évaluer les risques qui existent dans votre entreprise en matière de santé et de sécurité des salariés. Pour cela\, vous devez établir et tenir à jour un Document Unique d’Évaluation des Risques Professionnels (DUERP) qui est un outil central et essentiel dans la prévention des risques professionnels. \nVous souhaitez mettre à jour ou créer votre Document Unique ? Nous vous accompagnons dans sa mise en place !  \nAu programme de cet atelier :  \n\nLes enjeux de la prévention et les objectifs du DUERP ;\nLa méthode pour formaliser le DUERP et son plan d’action ;\n[NOUVEAUTE] Les changements apportés par la loi du 02 août 2021 sur le DUERP.\n\nL’intervenant : \n\nArnaud ROUX\, Ingénieur en Prévention des Risques Professionnels.\n\nInformations pratiques : \n\nCet atelier est inclus dans votre cotisation annuelle\nInscription gratuite mais obligatoire
URL:https://odaliasante.fr/evenement/le-document-unique-devaluation-des-risques-professionnels-2/
LOCATION:Odalia – ZI Toulon Est\, 398 Av. Joseph Louis Lambot\, La Garde\, LA\, 83130
CATEGORIES:Atelier de la prévention
ATTACH;FMTTYPE=image/jpeg:https://odaliasante.fr/wp-content/uploads/2023/12/DUERP-Odalia-09.01-1.jpg
END:VEVENT
BEGIN:VEVENT
DTSTART;TZID=Europe/Paris:20231214T090000
DTEND;TZID=Europe/Paris:20231214T123000
DTSTAMP:20260420T070323
CREATED:20231124T082834Z
LAST-MODIFIED:20231127T124054Z
UID:10000016-1702544400-1702557000@odaliasante.fr
SUMMARY:Le Document Unique d'Evaluation des Risques Professionnels
DESCRIPTION:En tant qu’employeur\, la loi vous impose d’évaluer les risques qui existent dans votre entreprise en matière de santé et de sécurité des salariés. Pour cela\, vous devez établir et tenir à jour un Document Unique d’Évaluation des Risques Professionnels (DUERP) qui est un outil central et essentiel dans la prévention des risques professionnels. \nVous souhaitez mettre à jour ou créer votre Document Unique ? Nous vous accompagnons dans sa mise en place !  \nAu programme de cet atelier :  \n\nLes enjeux de la prévention et les objectifs du DUERP ;\nLa méthode pour formaliser le DUERP et son plan d’action ;\nLes liens entre DUERP et la “pénibilité” (compte professionnel de prévention C2P) ;\n[NOUVEAUTE] Les récents changements apportés par la loi du 02 août 2021 sur le DUERP.\n\nL’intervenant : \n\nArnaud ROUX\, Ingénieur en Prévention des Risques Professionnels.\n\nInformations pratiques : \n\nCet atelier est inclus dans votre cotisation annuelle\nInscription gratuite mais obligatoire
URL:https://odaliasante.fr/evenement/le-document-unique-devaluation-des-risques-professionnels/
LOCATION:Odalia – ZI Toulon Est\, 398 Av. Joseph Louis Lambot\, La Garde\, LA\, 83130
ATTACH;FMTTYPE=image/jpeg:https://odaliasante.fr/wp-content/uploads/2023/11/DUERP-Odalia-14.12-FRISE.jpg
END:VEVENT
BEGIN:VEVENT
DTSTART;TZID=Europe/Paris:20231123T083000
DTEND;TZID=Europe/Paris:20231123T110000
DTSTAMP:20260420T070323
CREATED:20231115T081726Z
LAST-MODIFIED:20231115T081726Z
UID:10000015-1700728200-1700737200@odaliasante.fr
SUMMARY:Prévenir la désinsertion professionnelle et l'absentéisme en entreprise
DESCRIPTION:Le vieillissement de la population active\, l’allongement des carrières\, l’augmentation des maladies chroniques font de la prévention de la désinsertion professionnelle (PDP) et du maintien en emploi : \n\nUn enjeu socio-économique majeur pour les entreprises;\nUn moyen de limiter les conséquences de l’usure professionnelle\, de réduire les impacts du travail sur la santé et de diminuer l’absentéisme ou encore les restrictions et les inaptitudes au travail;\nUn levier d’amélioration des conditions de travail\, de motivation et d’inclusion des travailleurs.\n\nCe nouveau rendez-vous Santé et Sécurité au Travail abordera : \n\nLa définition et la caractérisation de la désinsertion professionnelle et de l’absentéisme\nLes impacts de la loi Santé Travail du 21/08/2021 et les décrets d’application sur la désinsertion professionnelle\nLes dispositifs d’accompagnement et l’offre de service des acteurs de la prévention\, du maintien et de la compensation du handicap\nLes missions et le fonctionnement de la cellule Maintien en emploi d’Odalia (ex : AIST83)\n\nCe RDV S&ST est organisé par l’Union Patronale du Var et animé par Odalia (ex AIST 83)\,  la DDETS 83\, la Carsat Sud Est \, Cap Emploi 83 et l’Agefiph. \nInscription gratuite mais obligatoire.
URL:https://odaliasante.fr/evenement/prevenir-la-desinsertion-professionnelle-et-labsenteisme-en-entreprise/
LOCATION:Campus de la Grande Tourrache\, Amphi E2C\, Avenue François Arago\, Toulon\, 83100\, France
CATEGORIES:Les rendez-vous de la Santé et de la Sécurité au Travail
ATTACH;FMTTYPE=image/jpeg:https://odaliasante.fr/wp-content/uploads/2023/11/RDV-SST-Odalia.jpg
END:VEVENT
BEGIN:VEVENT
DTSTART;TZID=Europe/Paris:20231107T110000
DTEND;TZID=Europe/Paris:20231107T120000
DTSTAMP:20260420T070323
CREATED:20230829T084057Z
LAST-MODIFIED:20231024T090326Z
UID:10000009-1699354800-1699358400@odaliasante.fr
SUMMARY:Webinaire Présanse Paca-Corse et AIST 83 : "Comment prévenir la sédentarité au travail ?"
DESCRIPTION:Au travail\, les postures sédentaires sont présentes dans de nombreux secteurs d’activités. Mais il existe des solutions pour limiter la position assise prolongée. \nAvec notre webinaire\, nos experts en prévention et santé au travail vous proposent de dresser un état des lieux des conséquences de la sédentarité sur la santé et sur l’entreprise\, avant de passer en revue les moyens de prévention à la fois collectifs et individuels. Dans une dernière partie\, le webinaire abordera également les aides financières et la réglementation en la matière. \nLes intervenants :\n\nLucille JACQUOT\, Infirmière en Santé au Travail à l’AIST 83\nStéphanie RUOCCO\, Infirmière en Santé au Travail à Santé au Travail Provence\nAgnès DONAT\, Technicienne en prévention chez Expertis\nMarc GISSLER\, Assistant Technique en Santé au Travail à l’AISMT 13.\n\nInformations pratiques :\n\nLe mardi 07 novembre 2023\, de 11h00 à 12h00\nLa durée de ce webinaire est d’1 heure\, incluant 15 mn dédiées aux questions-réponses\n\nINSCRIPTIONS EN LIGNE EN CLIQUANT ICI
URL:https://odaliasante.fr/evenement/webinaire-presanse-paca-corse-et-aist-83-comment-prevenir-la-sedentarite-au-travail/
LOCATION:ODALIA\, Espace Athéna BP 125\, OLLIOULES CEDEX\, 83192\, France
CATEGORIES:Webinaires de la prévention
ATTACH;FMTTYPE=image/jpeg:https://odaliasante.fr/wp-content/uploads/2023/08/WEBINAIRE-SEDENTARITE-07-NOVEMBRE.jpg
END:VEVENT
BEGIN:VEVENT
DTSTART;TZID=Europe/Paris:20231019T140000
DTEND;TZID=Europe/Paris:20231019T150000
DTSTAMP:20260420T070323
CREATED:20230829T073254Z
LAST-MODIFIED:20231010T082514Z
UID:10000008-1697724000-1697727600@odaliasante.fr
SUMMARY:Webinaire Présanse Paca-Corse et AIST 83 : "Bruit au travail : à l'écoute de vos oreilles"
DESCRIPTION:Pour les postes régulièrement soumis à des niveaux sonores importants (> 85 dB)\, le bruit peut également entraîner une perte d’audition avec une survenue potentielle de maladie professionnelle. \nIl est donc essentiel de prévenir le risque bruit au travail\, d’autant qu’il peut concerner toutes sortes d’entreprises\, de secteurs et tailles variées. \n  \nAvec notre webinaire\, nous vous proposons de mieux comprendre ce risque\, de faire le point sur la réglementation et les possibles mesures de prévention. \nLes intervenants :\n\nVéronique LIONS\, Intervenante en Prévention des Risques Professionnels à l’AIST 83\nNathalie RAMOUSSE\, Intervenante en Prévention des Risques Professionnels à l’AISMT 13\nFabrice PALMA\, Intervenant en Prévention des Risques Professionnels à l’AMETRA06\nThomas BARTH\, Intervenant en Prévention des Risques Professionnels au ST Provence\n\nInformations pratiques :\n\nLe jeudi 19 octobre 2023\, de 14h00 à 15h00\nLa durée de ce webinaire est d’1 heure\, incluant 15 mn dédiées aux questions-réponses\n\nINSCRIPTIONS EN LIGNE EN CLIQUANT ICI
URL:https://odaliasante.fr/evenement/webinaire-presanse-paca-corse-et-aist-83-bruit-au-travail-a-lecoute-de-vos-oreilles/
LOCATION:ODALIA\, Espace Athéna BP 125\, OLLIOULES CEDEX\, 83192\, France
CATEGORIES:Webinaires de la prévention
ATTACH;FMTTYPE=image/jpeg:https://odaliasante.fr/wp-content/uploads/2023/08/WEBINAIRE-BRUIT-19-OCTOBRE.jpg
END:VEVENT
BEGIN:VEVENT
DTSTART;TZID=Europe/Paris:20231019T090000
DTEND;TZID=Europe/Paris:20231019T120000
DTSTAMP:20260420T070323
CREATED:20231010T080235Z
LAST-MODIFIED:20231010T080422Z
UID:10000012-1697706000-1697716800@odaliasante.fr
SUMMARY:Atelier de la Prévention : Comment agir contre le bruit ?
DESCRIPTION:27% des salariés sont considérés comme exposés à des bruits excessifs\nPlus de 700 surdités professionnelles sont reconnues chaque année\nLa surdité professionnelle est la 5ème cause de maladie professionnelle\n\nAu programme de l’atelier :\n\nSensibilisation sur les risques\nInformation sur la réglementation\nAide dans l’évaluation\nAccompagnement dans la prévention
URL:https://odaliasante.fr/evenement/atelier-de-la-prevention-comment-agir-contre-le-bruit-2/
LOCATION:ODALIA – La Garde Toulon-Est\, 398 Av. Joseph Louis Lambot\, La Garde\, 83130\, France
CATEGORIES:Atelier de la prévention
ATTACH;FMTTYPE=image/jpeg:https://odaliasante.fr/wp-content/uploads/2023/10/ATELIER-BRUIT-19-OCT-2023.jpg
END:VEVENT
BEGIN:VEVENT
DTSTART;TZID=Europe/Paris:20231017T090000
DTEND;TZID=Europe/Paris:20231017T120000
DTSTAMP:20260420T070323
CREATED:20231010T075144Z
LAST-MODIFIED:20231013T072551Z
UID:10000011-1697533200-1697544000@odaliasante.fr
SUMMARY:Atelier de la Prévention : Comment agir contre le bruit ?
DESCRIPTION:27% des salariés sont considérés comme exposés à des bruits excessifs\nPlus de 700 surdités professionnelles sont reconnues chaque année\nLa surdité professionnelle est la 5ème cause de maladie professionnelle\n\nAu programme de l’atelier :\n\nSensibilisation sur les risques\nInformation sur la réglementation\nAide dans l’évaluation\nAccompagnement dans la prévention\n\n  \nATTENTION ! LES INSCRIPTIONS SONT LIMITÉES À 12 PARTICIPANTS !
URL:https://odaliasante.fr/evenement/atelier-de-la-prevention-comment-agir-contre-le-bruit/
LOCATION:ODALIA – Puget-sur-Argens\, Lot n°5 Lotissement des Vernèdes Chemin des Vernèdes\, PUGET SUR ARGENS\, 83480
CATEGORIES:Atelier de la prévention
ATTACH;FMTTYPE=image/jpeg:https://odaliasante.fr/wp-content/uploads/2023/10/ATELIER-BRUIT-17-OCT-2023.jpg
END:VEVENT
BEGIN:VEVENT
DTSTART;TZID=Europe/Paris:20231003T090000
DTEND;TZID=Europe/Paris:20231003T120000
DTSTAMP:20260420T070323
CREATED:20230927T093922Z
LAST-MODIFIED:20231003T124810Z
UID:10000010-1696323600-1696334400@odaliasante.fr
SUMMARY:Atelier de la Prévention : Produits Chimique : la Fiche de Données de Sécurité votre alliée !
DESCRIPTION:La fiche de données de sécurité (FDS) est un élément essentiel en matière de prévention des risques chimiques. Ce document regroupe toutes les informations relatives aux propriétés d’un produit chimique. \n \nCe document pouvant être difficile à exploiter\, L’AIST 83 vous propose un atelier pour échanger autour de cet élément incontournable. L’objectif de cette matinée prévention consiste à faciliter votre compréhension des points cruciaux d’une Fiche de Données de Sécurité (FDS) et à vous guider dans son utilisation pratique lors de l’évaluation des risques chimiques. \nAu programme de cet atelier :\n\nComment obtenir une FDS ?\nQuelle est sa durée de validité ?\nQui devrait la consulter ?\nComment votre équipe de santé et sécurité au travail peut-elle vous assister dans l’analyse de ces documents ?\n\nInformations pratiques :\n\nCet atelier est réservé aux adhérents de l’AIST 83.\nCe service est inclus dans votre cotisation annuelle.\nAdresse :\nImpasse des Peupliers – Parc Athéna\nQuartier Quiez – BP 125\n83192 Ollioules\nPlan d’accès\n\n  \nL’ATELIER EST COMPLET !
URL:https://odaliasante.fr/evenement/atelier-de-la-prevention-produits-chimique-la-fiche-de-donnees-de-securite-votre-alliee/
CATEGORIES:Atelier de la prévention
ATTACH;FMTTYPE=image/jpeg:https://odaliasante.fr/wp-content/uploads/2023/09/ATELIER-FDS-03-OCT.jpg
END:VEVENT
BEGIN:VEVENT
DTSTART;TZID=Europe/Paris:20230928T110000
DTEND;TZID=Europe/Paris:20230928T120000
DTSTAMP:20260420T070323
CREATED:20230828T145704Z
LAST-MODIFIED:20230927T152519Z
UID:10000007-1695898800-1695902400@odaliasante.fr
SUMMARY:Webinaire Présanse Paca-Corse et AIST 83 : "Hôtellerie : dites STOP aux troubles musculo-squelettiques !"
DESCRIPTION:Les Troubles Musculo-Squelettiques (TMS) sont des maladies qui affectent les tissus autour des articulations (muscles\, tendons\, nerfs…). Ils touchent les membres supérieurs (épaule\, coude\, poignet)\, inférieurs (genou\, cheville\, pied) et la colonne vertébrale. \nDes gestes répétitifs associés à des efforts et des postures contraignantes sont souvent à l’origine de ces troubles. \nNos experts en prévention vous proposent\, dans un webinaire d’une heure environ\, de faire le point sur les TMS et de passer en revue les pistes pour réduire ces risques. \nLes intervenants :\n\nSabrina AULAS\, Assistante Technique en Santé au Travail à l’AIST 83\nHanane DYANY\, Assistante Technique en Santé au Travail à l’AIST 84\nPaul RAUTE\, Ergonome à l’AIST 84\nEveline BARRÉ\, Médecin du travail à l’AMETRA06\nChristine BELLINO\, Assistante Technique en Santé au Travail au GEST 05\nJulie LERCARI\, Intervenante en Prévention des Risques Professionnels chez ST Provence\n\nInformations pratiques :\n\nLe jeudi 28 septembre 2023\, de 11h00 à 12h00\nLa durée de ce webinaire est d’1 heure\, incluant 15 mn dédiées aux questions-réponses\n\nINSCRIPTIONS EN LIGNE EN CLIQUANT ICI
URL:https://odaliasante.fr/evenement/webinaire-presanse-paca-corse-et-aist-83-hotellerie-dites-stop-aux-troubles-musculo-squelettiques/
LOCATION:ODALIA\, Espace Athéna BP 125\, OLLIOULES CEDEX\, 83192\, France
CATEGORIES:Webinaires de la prévention
ATTACH;FMTTYPE=image/jpeg:https://odaliasante.fr/wp-content/uploads/2023/07/odalia_article_1.jpg
END:VEVENT
BEGIN:VEVENT
DTSTART;TZID=Europe/Paris:20230921T090000
DTEND;TZID=Europe/Paris:20230921T120000
DTSTAMP:20260420T070323
CREATED:20230828T145406Z
LAST-MODIFIED:20230828T152910Z
UID:10000006-1695286800-1695297600@odaliasante.fr
SUMMARY:Atelier de la Prévention : Identifier et formaliser vos risques dans le Document Unique - Puget-sur-Argens
DESCRIPTION:Vous souhaitez mettre à jour ou créer votre Document Unique ? L’AIST 83 vous accompagne dans sa mise en place ! \nUn Intervenant en Prévention des Risques Professionnels amorcera avec vous et vous donnera tous outils pour mettre en place ou reprendre l’évaluation de risques dans votre entreprise. \n  \nAu programme de cet atelier :\n\nLes enjeux de la prévention et les objectifs du DUERP ;\nLa méthode pour formaliser le DUERP et son plan d’action ;\nLes liens entre DUERP et la “pénibilité” (compte professionnel de prévention C2P) ;\n[NOUVEAUTE] Les récents changements apportés par la loi du 02 août 2021 sur le DUERP.\n\nInformations pratiques\n\nCet atelier est réservé aux adhérents de l’AIST 83.\nCe service est inclus dans votre cotisation annuelle.\nAdresse :\nLot n°5\nLotissement des Vernèdes\nChemin des Vernèdes\n83480 PUGET SUR ARGENS\nPlan d’accès\n\n  \nATTENTION : 14 PLACES DISPONIBLES UNIQUEMENT !
URL:https://odaliasante.fr/evenement/atelier-de-la-prevention-identifier-et-formaliser-vos-risques-dans-le-document-unique-puget-sur-argens/
LOCATION:PUGET SUR ARGENS\, Lot n°5 Lotissement des Vernèdes Chemin des Vernèdes\, PUGET SUR ARGENS\, 83480
CATEGORIES:Atelier de la prévention
ATTACH;FMTTYPE=image/jpeg:https://odaliasante.fr/wp-content/uploads/2023/07/odalia_article_3.jpg
END:VEVENT
BEGIN:VEVENT
DTSTART;TZID=Europe/Paris:20230915T080000
DTEND;TZID=Europe/Paris:20230915T170000
DTSTAMP:20260420T070323
CREATED:20230718T132502Z
LAST-MODIFIED:20230904T144741Z
UID:10000002-1694764800-1694797200@odaliasante.fr
SUMMARY:Webinaire : Lutter contre la sédentarité au travail
DESCRIPTION:La sédentarité au travail nuit à la santé. Les postures sédentaires constituent un enjeu de santé au travail qu’il convient d’évaluer et de prévenir.
URL:https://odaliasante.fr/evenement/webinaire-lutter-contre-la-sedentarite-au-travail/
LOCATION:ODALIA\, Espace Athéna BP 125\, OLLIOULES CEDEX\, 83192\, France
CATEGORIES:Webinaires de la prévention
ATTACH;FMTTYPE=image/jpeg:https://odaliasante.fr/wp-content/uploads/2023/07/odalia_article_1.jpg
END:VEVENT
BEGIN:VEVENT
DTSTART;TZID=Europe/Paris:20230912T110000
DTEND;TZID=Europe/Paris:20230912T120000
DTSTAMP:20260420T070323
CREATED:20230828T144349Z
LAST-MODIFIED:20230828T153352Z
UID:10000005-1694516400-1694520000@odaliasante.fr
SUMMARY:Webinaire Présanse Paca-Corse et AIST 83 : "Le risque chimique : les bases sur l’identification\, l’évaluation et la prévention"
DESCRIPTION:Pour vous aider à y voir plus clair\, nos experts vous proposent un webinaire qui abordera les points suivants : \n\nSavoir identifier les produits et agents chimiques dangereux\nSavoir lire une étiquette et une FDS (fiche de données de sécurité) et extraire les informations utilisables en entreprise\nConnaître les bases de l’évaluation et de la prévention du risque chimique\nConnaître l’accompagnement des services de prévention et de santé au travail\n\nLes intervenants :\n\nElodie Pelliccia\, Intervenante en Prévention des Risques Professionnels à l’AIST 83\nSéverine Chicha\, Médecin du Travail à l’AMETRA06\nLudwig Mancer\, Intervenante en Prévention des Risques Professionnels au GIMS 13\nCosmin Patrascu\, ingénieur chimiste au SPSTI 2A\n\nAvec Agnès Donat\, Technicienne en Prévention chez Expertis pour l’animation. \nInformations pratiques :\n\nLe mardi 12 septembre 2023\, de 11h00 à 12h00\nLa durée de ce webinaire est d’1 heure\, incluant 15 mn dédiées aux questions-réponses\n\nINSCRIPTIONS EN LIGNE EN CLIQUANT ICI
URL:https://odaliasante.fr/evenement/webinaire-presanse-paca-corse-et-aist-83-le-risque-chimique-les-bases-sur-lidentification-levaluation-et-la-prevention-12-09-2023/
CATEGORIES:Webinaires de la prévention
ATTACH;FMTTYPE=image/jpeg:https://odaliasante.fr/wp-content/uploads/2023/07/odalia_article_1.jpg
END:VEVENT
END:VCALENDAR