BEGIN:VCALENDAR
VERSION:2.0
PRODID:-//Odalia Santé (ex AIST 83) - Médecine du travail - ECPv6.6.2//NONSGML v1.0//EN
CALSCALE:GREGORIAN
METHOD:PUBLISH
X-WR-CALNAME:Odalia Santé (ex AIST 83) - Médecine du travail
X-ORIGINAL-URL:https://odaliasante.fr
X-WR-CALDESC:Évènements pour Odalia Santé (ex AIST 83) - Médecine du travail
REFRESH-INTERVAL;VALUE=DURATION:PT1H
X-Robots-Tag:noindex
X-PUBLISHED-TTL:PT1H
BEGIN:VTIMEZONE
TZID:Europe/Paris
BEGIN:DAYLIGHT
TZOFFSETFROM:+0100
TZOFFSETTO:+0200
TZNAME:CEST
DTSTART:20230326T010000
END:DAYLIGHT
BEGIN:STANDARD
TZOFFSETFROM:+0200
TZOFFSETTO:+0100
TZNAME:CET
DTSTART:20231029T010000
END:STANDARD
END:VTIMEZONE
BEGIN:VEVENT
DTSTART;TZID=Europe/Paris:20230928T110000
DTEND;TZID=Europe/Paris:20230928T120000
DTSTAMP:20260420T093549
CREATED:20230828T145704Z
LAST-MODIFIED:20230927T152519Z
UID:10000007-1695898800-1695902400@odaliasante.fr
SUMMARY:Webinaire Présanse Paca-Corse et AIST 83 : "Hôtellerie : dites STOP aux troubles musculo-squelettiques !"
DESCRIPTION:Les Troubles Musculo-Squelettiques (TMS) sont des maladies qui affectent les tissus autour des articulations (muscles\, tendons\, nerfs…). Ils touchent les membres supérieurs (épaule\, coude\, poignet)\, inférieurs (genou\, cheville\, pied) et la colonne vertébrale. \nDes gestes répétitifs associés à des efforts et des postures contraignantes sont souvent à l’origine de ces troubles. \nNos experts en prévention vous proposent\, dans un webinaire d’une heure environ\, de faire le point sur les TMS et de passer en revue les pistes pour réduire ces risques. \nLes intervenants :\n\nSabrina AULAS\, Assistante Technique en Santé au Travail à l’AIST 83\nHanane DYANY\, Assistante Technique en Santé au Travail à l’AIST 84\nPaul RAUTE\, Ergonome à l’AIST 84\nEveline BARRÉ\, Médecin du travail à l’AMETRA06\nChristine BELLINO\, Assistante Technique en Santé au Travail au GEST 05\nJulie LERCARI\, Intervenante en Prévention des Risques Professionnels chez ST Provence\n\nInformations pratiques :\n\nLe jeudi 28 septembre 2023\, de 11h00 à 12h00\nLa durée de ce webinaire est d’1 heure\, incluant 15 mn dédiées aux questions-réponses\n\nINSCRIPTIONS EN LIGNE EN CLIQUANT ICI
URL:https://odaliasante.fr/evenement/webinaire-presanse-paca-corse-et-aist-83-hotellerie-dites-stop-aux-troubles-musculo-squelettiques/
LOCATION:ODALIA\, Espace Athéna BP 125\, OLLIOULES CEDEX\, 83192\, France
CATEGORIES:Webinaires de la prévention
ATTACH;FMTTYPE=image/jpeg:https://odaliasante.fr/wp-content/uploads/2023/07/odalia_article_1.jpg
END:VEVENT
END:VCALENDAR